BEGIN:VCALENDAR
VERSION:2.0
PRODID:-//BaPaV - Brest à Pied et à Vélo - ECPv6.15.20//NONSGML v1.0//EN
CALSCALE:GREGORIAN
METHOD:PUBLISH
X-WR-CALNAME:BaPaV - Brest à Pied et à Vélo
X-ORIGINAL-URL:https://www.bapav.org
X-WR-CALDESC:Évènements pour BaPaV - Brest à Pied et à Vélo
REFRESH-INTERVAL;VALUE=DURATION:PT1H
X-Robots-Tag:noindex
X-PUBLISHED-TTL:PT1H
BEGIN:VTIMEZONE
TZID:Europe/Paris
BEGIN:DAYLIGHT
TZOFFSETFROM:+0100
TZOFFSETTO:+0200
TZNAME:CEST
DTSTART:20250330T010000
END:DAYLIGHT
BEGIN:STANDARD
TZOFFSETFROM:+0200
TZOFFSETTO:+0100
TZNAME:CET
DTSTART:20251026T010000
END:STANDARD
BEGIN:DAYLIGHT
TZOFFSETFROM:+0100
TZOFFSETTO:+0200
TZNAME:CEST
DTSTART:20260329T010000
END:DAYLIGHT
BEGIN:STANDARD
TZOFFSETFROM:+0200
TZOFFSETTO:+0100
TZNAME:CET
DTSTART:20261025T010000
END:STANDARD
BEGIN:DAYLIGHT
TZOFFSETFROM:+0100
TZOFFSETTO:+0200
TZNAME:CEST
DTSTART:20270328T010000
END:DAYLIGHT
BEGIN:STANDARD
TZOFFSETFROM:+0200
TZOFFSETTO:+0100
TZNAME:CET
DTSTART:20271031T010000
END:STANDARD
END:VTIMEZONE
BEGIN:VEVENT
DTSTART;TZID=Europe/Paris:20260425T140000
DTEND;TZID=Europe/Paris:20260425T170000
DTSTAMP:20260425T015124
CREATED:20260418T071531Z
LAST-MODIFIED:20260418T071531Z
UID:58817-1777125600-1777136400@www.bapav.org
SUMMARY:Place au vélo
DESCRIPTION:Dans le cadre de Mai à Vélo\, BaPaV organise « Place au Vélo » Place Guérin à Brest\, le 25 avril 2026 de 14h à 17h. \n« Place au Vélo » a pour ambition de promouvoir le vélo et notamment en tant que mode de déplacement quotidien. Afin de permettre de sensibiliser au vélo\, l’association proposera des activités diverses : \n-Un parcours de vélo-école pour les enfants \n-Des balades en vélo-triporteur pour petits et grands \n-Un atelier d’auto-réparation\, pour la sensibilisation à l’entretien de son vélo-triporteur \n-Une bourse aux vélos d’occasion \n-Des vélos étonnants (tall bike\, tandem\, etc.) \n-Une vélorution des enfants : Convoi à vélo\, pour les grand.e.s et les petit.e.s\, qui partira à 13h30 de la place de la Liberté pour arriver vers 14h Place Guérin.
URL:https://www.bapav.org/event/place-au-velo-2/
LOCATION:Place Guérin\, Place Guérin\, Brest\, 29200\, France
CATEGORIES:Animation,Manifestation
ATTACH;FMTTYPE=image/png:https://www.bapav.org/wp-content/uploads/2026/04/Afficheplaceauvelo2026.png
END:VEVENT
END:VCALENDAR