BEGIN:VCALENDAR
VERSION:2.0
PRODID:-//BaPaV - Brest à Pied et à Vélo - ECPv6.15.20//NONSGML v1.0//EN
CALSCALE:GREGORIAN
METHOD:PUBLISH
X-WR-CALNAME:BaPaV - Brest à Pied et à Vélo
X-ORIGINAL-URL:https://www.bapav.org
X-WR-CALDESC:Évènements pour BaPaV - Brest à Pied et à Vélo
REFRESH-INTERVAL;VALUE=DURATION:PT1H
X-Robots-Tag:noindex
X-PUBLISHED-TTL:PT1H
BEGIN:VTIMEZONE
TZID:Europe/Paris
BEGIN:DAYLIGHT
TZOFFSETFROM:+0100
TZOFFSETTO:+0200
TZNAME:CEST
DTSTART:20230326T010000
END:DAYLIGHT
BEGIN:STANDARD
TZOFFSETFROM:+0200
TZOFFSETTO:+0100
TZNAME:CET
DTSTART:20231029T010000
END:STANDARD
BEGIN:DAYLIGHT
TZOFFSETFROM:+0100
TZOFFSETTO:+0200
TZNAME:CEST
DTSTART:20240331T010000
END:DAYLIGHT
BEGIN:STANDARD
TZOFFSETFROM:+0200
TZOFFSETTO:+0100
TZNAME:CET
DTSTART:20241027T010000
END:STANDARD
BEGIN:DAYLIGHT
TZOFFSETFROM:+0100
TZOFFSETTO:+0200
TZNAME:CEST
DTSTART:20250330T010000
END:DAYLIGHT
BEGIN:STANDARD
TZOFFSETFROM:+0200
TZOFFSETTO:+0100
TZNAME:CET
DTSTART:20251026T010000
END:STANDARD
END:VTIMEZONE
BEGIN:VEVENT
DTSTART;TZID=Europe/Paris:20240502T183000
DTEND;TZID=Europe/Paris:20240502T200000
DTSTAMP:20260422T062109
CREATED:20240427T034902Z
LAST-MODIFIED:20240427T034902Z
UID:43503-1714674600-1714680000@www.bapav.org
SUMMARY:Réunion Adhérents - Apéro Vélo
DESCRIPTION:Une nouvelle formule pour la réunion mensuelle des adhérents.\nRéunion informelle autour d’un verre au bar Les Fauvettes
URL:https://www.bapav.org/event/reunion-adherents-apero-velo/
LOCATION:Les Fauvettes\, 27\, Rue Conseil\, brest\, 29200
CATEGORIES:Animation
ATTACH;FMTTYPE=image/jpeg:https://www.bapav.org/wp-content/uploads/2024/04/Reunion-Debat_1.jpg
END:VEVENT
BEGIN:VEVENT
DTSTART;TZID=Europe/Paris:20240504T133000
DTEND;TZID=Europe/Paris:20240504T173000
DTSTAMP:20260422T062109
CREATED:20240414T130643Z
LAST-MODIFIED:20240414T130643Z
UID:42598-1714829400-1714843800@www.bapav.org
SUMMARY:Animation Mobilités BM
DESCRIPTION:
URL:https://www.bapav.org/event/animation-mobilites-bm/
LOCATION:Rue Frézier\, Rue Frézier\, Brest\, 29200\, France
CATEGORIES:Animation
ATTACH;FMTTYPE=image/jpeg:https://www.bapav.org/wp-content/uploads/2022/05/023A8556-scaled.jpg
ORGANIZER;CN="Direction des mobilit%C3%A9s de Brest m%C3%A9tropole":MAILTO:mobilites@brest-metropole.fr
END:VEVENT
BEGIN:VEVENT
DTSTART;TZID=Europe/Paris:20240504T133000
DTEND;TZID=Europe/Paris:20240504T180000
DTSTAMP:20260422T062109
CREATED:20240414T125115Z
LAST-MODIFIED:20240429T082335Z
UID:42538-1714829400-1714845600@www.bapav.org
SUMMARY:Les Insolites
DESCRIPTION:
URL:https://www.bapav.org/event/les-insolites/
LOCATION:Les Insolites\, 25\, Rue de Pontaniou\, Brest\, 29200\, France
CATEGORIES:Animation
ATTACH;FMTTYPE=image/png:https://www.bapav.org/wp-content/uploads/2024/04/Mecacyclette_1.png
END:VEVENT
BEGIN:VEVENT
DTSTART;TZID=Europe/Paris:20240515T150000
DTEND;TZID=Europe/Paris:20240515T170000
DTSTAMP:20260422T062109
CREATED:20240414T123930Z
LAST-MODIFIED:20240502T054325Z
UID:42508-1715785200-1715792400@www.bapav.org
SUMMARY:Mamans 29
DESCRIPTION:
URL:https://www.bapav.org/event/mamans-29-3/
LOCATION:Bahamas\, 10\, Rue de Vannes\, Brest\, 29200\, France
CATEGORIES:Animation
ATTACH;FMTTYPE=image/png:https://www.bapav.org/wp-content/uploads/2024/04/Mecacyclette_1.png
END:VEVENT
BEGIN:VEVENT
DTSTART;VALUE=DATE:20240516
DTEND;VALUE=DATE:20240517
DTSTAMP:20260422T062109
CREATED:20240414T130158Z
LAST-MODIFIED:20240414T130158Z
UID:42588-1715817600-1715903999@www.bapav.org
SUMMARY:Mécacyclette Thalès
DESCRIPTION:
URL:https://www.bapav.org/event/mecacyclette-thales/
LOCATION:Thalès\, 10 Av. 1ère Dfl\, Brest\, 29200\, France
CATEGORIES:Animation
ATTACH;FMTTYPE=image/png:https://www.bapav.org/wp-content/uploads/2024/04/Mecacyclette_1.png
END:VEVENT
BEGIN:VEVENT
DTSTART;TZID=Europe/Paris:20240517T133000
DTEND;TZID=Europe/Paris:20240517T173000
DTSTAMP:20260422T062109
CREATED:20240414T130757Z
LAST-MODIFIED:20240414T130757Z
UID:42608-1715952600-1715967000@www.bapav.org
SUMMARY:Animation Mobilités BM
DESCRIPTION:
URL:https://www.bapav.org/event/animation-mobilites-bm-2/
LOCATION:Rue Frézier\, Rue Frézier\, Brest\, 29200\, France
CATEGORIES:Animation
ATTACH;FMTTYPE=image/jpeg:https://www.bapav.org/wp-content/uploads/2022/05/023A8556-scaled.jpg
ORGANIZER;CN="Direction des mobilit%C3%A9s de Brest m%C3%A9tropole":MAILTO:mobilites@brest-metropole.fr
END:VEVENT
BEGIN:VEVENT
DTSTART;TZID=Europe/Paris:20240518T110000
DTEND;TZID=Europe/Paris:20240518T170000
DTSTAMP:20260422T062109
CREATED:20240514T082918Z
LAST-MODIFIED:20240514T082918Z
UID:44387-1716030000-1716051600@www.bapav.org
SUMMARY:Ça Roule dans le Quartier
DESCRIPTION:
URL:https://www.bapav.org/event/ca-roule-dans-le-quartier/
LOCATION:Centre sportif de la résistance\, Rue de la résistance\, Brest\, 29200
CATEGORIES:Animation
ATTACH;FMTTYPE=image/webp:https://www.bapav.org/wp-content/uploads/2024/05/Affiche_StPierre_Mobilite_18mai24.jpg.webp
ORGANIZER;CN="Direction des mobilit%C3%A9s de Brest m%C3%A9tropole":MAILTO:mobilites@brest-metropole.fr
END:VEVENT
BEGIN:VEVENT
DTSTART;TZID=Europe/Paris:20240522T133000
DTEND;TZID=Europe/Paris:20240522T173000
DTSTAMP:20260422T062109
CREATED:20240414T125624Z
LAST-MODIFIED:20240502T054208Z
UID:42568-1716384600-1716399000@www.bapav.org
SUMMARY:Animation Place Guérin
DESCRIPTION:
URL:https://www.bapav.org/event/animation-place-guerin-2/
LOCATION:Place Guérin\, Place Guérin\, Brest\, 29200\, France
CATEGORIES:Animation
ATTACH;FMTTYPE=image/png:https://www.bapav.org/wp-content/uploads/2024/04/Mecacyclette_1.png
END:VEVENT
BEGIN:VEVENT
DTSTART;TZID=Europe/Paris:20240522T180000
DTEND;TZID=Europe/Paris:20240522T193000
DTSTAMP:20260422T062109
CREATED:20240507T101055Z
LAST-MODIFIED:20240507T101055Z
UID:43916-1716400800-1716406200@www.bapav.org
SUMMARY:Balade urbaine
DESCRIPTION:Envie de vous remettre en selle le temps d’un atelier ?Le mercredi 22 mai 2024\, dans le cadre du Printemps Zéro Carbone\, l’association BaPaV vous propose un temps fort « Autour du vélo ». L’occasion d’un check-up de votre bicycle et d’un rappel des règles de sécurité\, avant une balade en groupe sous le ciel printanier. \nRendez-vous dans les locaux de BaPaV\,au 19 rue Bruat à Brest
URL:https://www.bapav.org/event/balade-urbaine/
LOCATION:Bapav\, 19\, Rue Bruat\, Brest\, 29200\, France
CATEGORIES:Animation
ATTACH;FMTTYPE=image/webp:https://www.bapav.org/wp-content/uploads/2024/05/slider_pzc_atelier_autour_du_velo.jpg@.webp
END:VEVENT
BEGIN:VEVENT
DTSTART;TZID=Europe/Paris:20240523T133000
DTEND;TZID=Europe/Paris:20240523T153000
DTSTAMP:20260422T062109
CREATED:20240507T101437Z
LAST-MODIFIED:20240507T101437Z
UID:43936-1716471000-1716478200@www.bapav.org
SUMMARY:Balade urbaine
DESCRIPTION:Balade encadrée pour des membres du CCAS
URL:https://www.bapav.org/event/balade-urbaine-2/
LOCATION:Bapav\, 19\, Rue Bruat\, Brest\, 29200\, France
CATEGORIES:Animation
ATTACH;FMTTYPE=image/jpeg:https://www.bapav.org/wp-content/uploads/2019/11/balade-vélo.jpg
END:VEVENT
BEGIN:VEVENT
DTSTART;TZID=Europe/Paris:20240525T133000
DTEND;TZID=Europe/Paris:20240525T170000
DTSTAMP:20260422T062109
CREATED:20240420T045753Z
LAST-MODIFIED:20240523T031231Z
UID:43128-1716643800-1716656400@www.bapav.org
SUMMARY:Temps fort Tout à Vélo
DESCRIPTION:Comme temps fort du challenge\, BaPaV et ses partenaires (Brest Métropole\, Bibus\, Ti Mobzh) vous proposent cette année une grande animation autour du vélo le samedi 25 Mai de 13 heures 30 à 17 heures place Wilson à Brest. \nTout au long de l’après-midi de nombreuses activités sont programmées : \n\nTours en triporteur\nParcours de vélo-école\nAtelier de réparation\nCartographie\nVente de vélos\nEssais de vélos électriques\n\nEt l’association Les enfants d’Arthur sera aussi présente pour faire des crêpes.
URL:https://www.bapav.org/event/temps-fort-tout-a-velo/
LOCATION:Place Wilson\, place Wilson\, Brest\, 29200
CATEGORIES:Animation
ATTACH;FMTTYPE=image/png:https://www.bapav.org/wp-content/uploads/2024/04/Place-au-velo-1.png
END:VEVENT
BEGIN:VEVENT
DTSTART;TZID=Europe/Paris:20240529T133000
DTEND;TZID=Europe/Paris:20240529T173000
DTSTAMP:20260422T062109
CREATED:20240414T130844Z
LAST-MODIFIED:20240414T130844Z
UID:42618-1716989400-1717003800@www.bapav.org
SUMMARY:Animation Mobilités BM
DESCRIPTION:
URL:https://www.bapav.org/event/animation-mobilites-bm-3/
LOCATION:Rue Frézier\, Rue Frézier\, Brest\, 29200\, France
CATEGORIES:Animation
ATTACH;FMTTYPE=image/jpeg:https://www.bapav.org/wp-content/uploads/2022/05/023A8556-scaled.jpg
ORGANIZER;CN="Direction des mobilit%C3%A9s de Brest m%C3%A9tropole":MAILTO:mobilites@brest-metropole.fr
END:VEVENT
BEGIN:VEVENT
DTSTART;VALUE=DATE:20240531
DTEND;VALUE=DATE:20240601
DTSTAMP:20260422T062109
CREATED:20240414T124028Z
LAST-MODIFIED:20240414T124028Z
UID:42518-1717113600-1717199999@www.bapav.org
SUMMARY:Mamans 29
DESCRIPTION:
URL:https://www.bapav.org/event/mamans-29-4/
LOCATION:Bahamas\, 10\, Rue de Vannes\, Brest\, 29200\, France
CATEGORIES:Animation
ATTACH;FMTTYPE=image/png:https://www.bapav.org/wp-content/uploads/2024/04/Mecacyclette_1.png
END:VEVENT
END:VCALENDAR