BEGIN:VCALENDAR
VERSION:2.0
PRODID:-//BaPaV - Brest à Pied et à Vélo - ECPv6.15.20//NONSGML v1.0//EN
CALSCALE:GREGORIAN
METHOD:PUBLISH
X-ORIGINAL-URL:https://www.bapav.org
X-WR-CALDESC:Évènements pour BaPaV - Brest à Pied et à Vélo
REFRESH-INTERVAL;VALUE=DURATION:PT1H
X-Robots-Tag:noindex
X-PUBLISHED-TTL:PT1H
BEGIN:VTIMEZONE
TZID:Europe/Paris
BEGIN:DAYLIGHT
TZOFFSETFROM:+0100
TZOFFSETTO:+0200
TZNAME:CEST
DTSTART:20230326T010000
END:DAYLIGHT
BEGIN:STANDARD
TZOFFSETFROM:+0200
TZOFFSETTO:+0100
TZNAME:CET
DTSTART:20231029T010000
END:STANDARD
BEGIN:DAYLIGHT
TZOFFSETFROM:+0100
TZOFFSETTO:+0200
TZNAME:CEST
DTSTART:20240331T010000
END:DAYLIGHT
BEGIN:STANDARD
TZOFFSETFROM:+0200
TZOFFSETTO:+0100
TZNAME:CET
DTSTART:20241027T010000
END:STANDARD
BEGIN:DAYLIGHT
TZOFFSETFROM:+0100
TZOFFSETTO:+0200
TZNAME:CEST
DTSTART:20250330T010000
END:DAYLIGHT
BEGIN:STANDARD
TZOFFSETFROM:+0200
TZOFFSETTO:+0100
TZNAME:CET
DTSTART:20251026T010000
END:STANDARD
END:VTIMEZONE
BEGIN:VEVENT
DTSTART;TZID=Europe/Paris:20241207T090000
DTEND;TZID=Europe/Paris:20241207T170000
DTSTAMP:20260421T123138
CREATED:20241128T042034Z
LAST-MODIFIED:20241128T042342Z
UID:49532-1733562000-1733590800@www.bapav.org
SUMMARY:Assises brestoises de la vie associative et de l'éducation populaire
DESCRIPTION:Participation aux Assises brestoises de la vie associative et de l’éducation populaire
URL:https://www.bapav.org/event/assises-brestoises-de-la-vie-associative-et-de-leducation-populaire/
LOCATION:Le Quartz\, 60\, Rue du Chateau\, Brest\, 29200
CATEGORIES:Animation,Velo Ecole
ATTACH;FMTTYPE=image/webp:https://www.bapav.org/wp-content/uploads/2024/11/CP-Assises-de-la-vie-associative-et-de-leducation-populaire.jpg.webp
END:VEVENT
BEGIN:VEVENT
DTSTART;TZID=Europe/Paris:20241218T180000
DTEND;TZID=Europe/Paris:20241218T200000
DTSTAMP:20260421T123138
CREATED:20241211T102519Z
LAST-MODIFIED:20241211T103055Z
UID:49712-1734544800-1734552000@www.bapav.org
SUMMARY:Pot de Noël des bénévoles
DESCRIPTION:Cher.e.s Mécavoles\, Aménavoles\, Vélo Écovoles\, et Pilotes de Triporteur\, \nNous avons le plaisir de vous inviter à notre Pot de Noël des bénévoles 🎉\, qui se tiendra le mercredi 18 décembre à partir de 18h au local de BaPaV. \nVenez partager un moment chaleureux et convivial autour de chocolats et biscuits de Noël 🍪\, pour célébrer ensemble la fin d’année. Ce sera l’occasion de nous retrouver\, de discuter et de vous remercier pour votre engagement tout au long de l’année. 🎅\nQue vous soyez bénévoles actifs\, ponctuels ou simplement intéressé.e.s à devenir bénévoles\, c’est l’occasion de se rencontrer et d’échanger sur vos expériences et vos envies de contribuer à nos projets ! 🤝 \nPour nous aider à bien organiser cet événement et prévoir les bonnes quantités\, merci de bien vouloir inscrire votre nom dans le document partagé : https://lite.framacalc.org/pot-de-noel-benevoles-2024-ablr 📑. \nNous avons hâte de passer ce moment festif avec vous ! \nÀ très bientôt !L’équipe BaPaV
URL:https://www.bapav.org/event/pot-de-noel-des-benevoles/
LOCATION:Bapav\, 19\, Rue Bruat\, Brest\, 29200\, France
CATEGORIES:Animation
ATTACH;FMTTYPE=image/png:https://www.bapav.org/wp-content/uploads/2024/12/Invitation-pot-de-noel-BaPaV-18-decembre.png
END:VEVENT
BEGIN:VEVENT
DTSTART;TZID=Europe/Paris:20241223T080000
DTEND;TZID=Europe/Paris:20241229T170000
DTSTAMP:20260421T123138
CREATED:20241211T103954Z
LAST-MODIFIED:20241211T103954Z
UID:49742-1734940800-1735491600@www.bapav.org
SUMMARY:Fermeture des bureaux
DESCRIPTION:Les bureaux seront fermés du 23 au 29 décembre. \nRéouverture le 30.
URL:https://www.bapav.org/event/fermeture-des-bureaux/
LOCATION:Bapav\, 19\, Rue Bruat\, Brest\, 29200\, France
CATEGORIES:Animation
ATTACH;FMTTYPE=image/jpeg:https://www.bapav.org/wp-content/uploads/2024/05/Acualite-logo.jpg
END:VEVENT
END:VCALENDAR