BEGIN:VCALENDAR
VERSION:2.0
PRODID:-//BaPaV - Brest à Pied et à Vélo - ECPv6.15.20//NONSGML v1.0//EN
CALSCALE:GREGORIAN
METHOD:PUBLISH
X-ORIGINAL-URL:https://www.bapav.org
X-WR-CALDESC:Évènements pour BaPaV - Brest à Pied et à Vélo
REFRESH-INTERVAL;VALUE=DURATION:PT1H
X-Robots-Tag:noindex
X-PUBLISHED-TTL:PT1H
BEGIN:VTIMEZONE
TZID:Europe/Paris
BEGIN:DAYLIGHT
TZOFFSETFROM:+0100
TZOFFSETTO:+0200
TZNAME:CEST
DTSTART:20240331T010000
END:DAYLIGHT
BEGIN:STANDARD
TZOFFSETFROM:+0200
TZOFFSETTO:+0100
TZNAME:CET
DTSTART:20241027T010000
END:STANDARD
BEGIN:DAYLIGHT
TZOFFSETFROM:+0100
TZOFFSETTO:+0200
TZNAME:CEST
DTSTART:20250330T010000
END:DAYLIGHT
BEGIN:STANDARD
TZOFFSETFROM:+0200
TZOFFSETTO:+0100
TZNAME:CET
DTSTART:20251026T010000
END:STANDARD
BEGIN:DAYLIGHT
TZOFFSETFROM:+0100
TZOFFSETTO:+0200
TZNAME:CEST
DTSTART:20260329T010000
END:DAYLIGHT
BEGIN:STANDARD
TZOFFSETFROM:+0200
TZOFFSETTO:+0100
TZNAME:CET
DTSTART:20261025T010000
END:STANDARD
END:VTIMEZONE
BEGIN:VTIMEZONE
TZID:Europe/Paris
BEGIN:DAYLIGHT
TZOFFSETFROM:+0100
TZOFFSETTO:+0200
TZNAME:CEST
DTSTART:20240331T010000
END:DAYLIGHT
BEGIN:STANDARD
TZOFFSETFROM:+0200
TZOFFSETTO:+0100
TZNAME:CET
DTSTART:20241027T010000
END:STANDARD
BEGIN:DAYLIGHT
TZOFFSETFROM:+0100
TZOFFSETTO:+0200
TZNAME:CEST
DTSTART:20250330T010000
END:DAYLIGHT
BEGIN:STANDARD
TZOFFSETFROM:+0200
TZOFFSETTO:+0100
TZNAME:CET
DTSTART:20251026T010000
END:STANDARD
BEGIN:DAYLIGHT
TZOFFSETFROM:+0100
TZOFFSETTO:+0200
TZNAME:CEST
DTSTART:20260329T010000
END:DAYLIGHT
BEGIN:STANDARD
TZOFFSETFROM:+0200
TZOFFSETTO:+0100
TZNAME:CET
DTSTART:20261025T010000
END:STANDARD
END:VTIMEZONE
BEGIN:VEVENT
DTSTART;TZID=Europe/Paris:20250604T143000
DTEND;TZID=Europe/Paris:20250604T173000
DTSTAMP:20260421T033512
CREATED:20250524T094406Z
LAST-MODIFIED:20250524T094520Z
UID:53979-1749047400-1749058200@www.bapav.org
SUMMARY:Atelier Mécanique vélo
DESCRIPTION:  \n\n\n \n 
URL:https://www.bapav.org/event/velorution-des-enfants-brest-2/
LOCATION:Centre social de Kerangoff\, 2\, rue Franchet d'Esperey\, Brest\, 29200\, France
CATEGORIES:Animation,Atelier
ATTACH;FMTTYPE=image/jpeg:https://www.bapav.org/wp-content/uploads/2025/05/mecaC-MODIFIABLE-2.jpg
END:VEVENT
BEGIN:VEVENT
DTSTART;TZID=Europe/Paris:20250606T170000
DTEND;TZID=Europe/Paris:20250606T170000
DTSTAMP:20260421T033512
CREATED:20250604T131150Z
LAST-MODIFIED:20250604T131323Z
UID:54658-1749229200-1749229200@www.bapav.org
SUMMARY:Vélorizons
DESCRIPTION:La Vélorizons\, c’est un départ groupé à vélo pour rejoindre Horizons Open Sea Festival\, co-organisé par BaPaV.\n\n\nDépart depuis Brest le vendredi ou le samedi et retour le dimanche\, en début ou en fin d’après-midi\, selon vos envies\, le tout dans une ambiance musicale et conviviale\, à tempo lento !\n\n\nVendredi : RDV à 17h place de la Liberté pour un départ à 17h15\nSamedi : RDV à 14h place de la Liberté pour un départ à 14h15\nDimanche (retour) : deux départs : à 13h et à 17h. RDV au parking vélo avant l’entrée du festival.\n\n\nDes vélos cargos sont prévus pour transporter toutes vos affaires et vous permettre de rouler léger !
URL:https://www.bapav.org/event/velorizons/
LOCATION:Place de la liberté\, Place de la liberté\, Brest\, 29200
CATEGORIES:Animation,Manifestation
ATTACH;FMTTYPE=image/jpeg:https://www.bapav.org/wp-content/uploads/2025/06/Velorizons-2025-1.jpg
END:VEVENT
BEGIN:VEVENT
DTSTART;TZID=Europe/Paris:20250614T120000
DTEND;TZID=Europe/Paris:20250614T190000
DTSTAMP:20260421T033512
CREATED:20250604T015219Z
LAST-MODIFIED:20250604T015219Z
UID:54508-1749902400-1749927600@www.bapav.org
SUMMARY:L'Echo Festival
DESCRIPTION:Et si on prenait l’air ? Joignez le cortège de la déambulation à vélo !\n\n \n\nDéambulation à vélo !SAM 14/06 | 12h – 19h (tout public)Gratuit \nUne balade musicale et joyeuse à travers Brest\, de La Carène à la Pam\, en passant par un pique-nique piano au jardin de Kerbonne\, un concert pop-folk et des ateliers créatifs aux Capucins\, et un apéro DJ pour finir en beauté. À vélo\, à pied ou en transports : suivez le rythme ! Un événement gratuit en partenariat avec la BAPAV.
URL:https://www.bapav.org/event/lecho-festival/
CATEGORIES:Animation,Atelier
END:VEVENT
BEGIN:VEVENT
DTSTART;TZID=Europe/Paris:20250626T183000
DTEND;TZID=Europe/Paris:20250626T200000
DTSTAMP:20260421T033512
CREATED:20250625T085227Z
LAST-MODIFIED:20250625T085643Z
UID:55297-1750962600-1750968000@www.bapav.org
SUMMARY:Jeudi de Bapav (Aka Apéro-Vélo)
DESCRIPTION:Le prochain jeudi de BaPaV (Aka Apéro-vélo) c’est déjà ce jeudi (26/06) à 18h30 au Shark Poule !  89 Rue de Glasgow\, \nL’occasion d’échanger sur nos expériences en mobilités douces au quotidien\, se plaindre collectivement des travaux\, mais aussi de discuter des vacances à vélo\, se filer des conseils et discuter des prochains événements sur le territoire 🚴🚴🍻🤌😎 \nEn bonus\, remise des trophées aux vainqueurs du Challenge tout à vélo\, dans les catégories de 2 à 5 personnes!
URL:https://www.bapav.org/event/jeudi-de-bapav-aka-apero-velo/
LOCATION:Les Fauvettes\, 27\, Rue Conseil\, brest\, 29200
CATEGORIES:Animation
ATTACH;FMTTYPE=image/png:https://www.bapav.org/wp-content/uploads/2025/04/Jeudis-de-bapav.png
END:VEVENT
END:VCALENDAR