BEGIN:VCALENDAR
VERSION:2.0
PRODID:-//BaPaV - Brest à Pied et à Vélo - ECPv6.15.20//NONSGML v1.0//EN
CALSCALE:GREGORIAN
METHOD:PUBLISH
X-ORIGINAL-URL:https://www.bapav.org
X-WR-CALDESC:Évènements pour BaPaV - Brest à Pied et à Vélo
REFRESH-INTERVAL;VALUE=DURATION:PT1H
X-Robots-Tag:noindex
X-PUBLISHED-TTL:PT1H
BEGIN:VTIMEZONE
TZID:Europe/Paris
BEGIN:DAYLIGHT
TZOFFSETFROM:+0100
TZOFFSETTO:+0200
TZNAME:CEST
DTSTART:20230326T010000
END:DAYLIGHT
BEGIN:STANDARD
TZOFFSETFROM:+0200
TZOFFSETTO:+0100
TZNAME:CET
DTSTART:20231029T010000
END:STANDARD
BEGIN:DAYLIGHT
TZOFFSETFROM:+0100
TZOFFSETTO:+0200
TZNAME:CEST
DTSTART:20240331T010000
END:DAYLIGHT
BEGIN:STANDARD
TZOFFSETFROM:+0200
TZOFFSETTO:+0100
TZNAME:CET
DTSTART:20241027T010000
END:STANDARD
BEGIN:DAYLIGHT
TZOFFSETFROM:+0100
TZOFFSETTO:+0200
TZNAME:CEST
DTSTART:20250330T010000
END:DAYLIGHT
BEGIN:STANDARD
TZOFFSETFROM:+0200
TZOFFSETTO:+0100
TZNAME:CET
DTSTART:20251026T010000
END:STANDARD
END:VTIMEZONE
BEGIN:VEVENT
DTSTART;TZID=Europe/Paris:20240522T133000
DTEND;TZID=Europe/Paris:20240522T173000
DTSTAMP:20260422T145722
CREATED:20240414T125624Z
LAST-MODIFIED:20240502T054208Z
UID:42568-1716384600-1716399000@www.bapav.org
SUMMARY:Animation Place Guérin
DESCRIPTION:
URL:https://www.bapav.org/event/animation-place-guerin-2/
LOCATION:Place Guérin\, Place Guérin\, Brest\, 29200\, France
CATEGORIES:Animation
ATTACH;FMTTYPE=image/png:https://www.bapav.org/wp-content/uploads/2024/04/Mecacyclette_1.png
END:VEVENT
BEGIN:VEVENT
DTSTART;TZID=Europe/Paris:20240522T180000
DTEND;TZID=Europe/Paris:20240522T193000
DTSTAMP:20260422T145722
CREATED:20240507T101055Z
LAST-MODIFIED:20240507T101055Z
UID:43916-1716400800-1716406200@www.bapav.org
SUMMARY:Balade urbaine
DESCRIPTION:Envie de vous remettre en selle le temps d’un atelier ?Le mercredi 22 mai 2024\, dans le cadre du Printemps Zéro Carbone\, l’association BaPaV vous propose un temps fort « Autour du vélo ». L’occasion d’un check-up de votre bicycle et d’un rappel des règles de sécurité\, avant une balade en groupe sous le ciel printanier. \nRendez-vous dans les locaux de BaPaV\,au 19 rue Bruat à Brest
URL:https://www.bapav.org/event/balade-urbaine/
LOCATION:Bapav\, 19\, Rue Bruat\, Brest\, 29200\, France
CATEGORIES:Animation
ATTACH;FMTTYPE=image/webp:https://www.bapav.org/wp-content/uploads/2024/05/slider_pzc_atelier_autour_du_velo.jpg@.webp
END:VEVENT
END:VCALENDAR