BEGIN:VCALENDAR
VERSION:2.0
PRODID:-//BaPaV - Brest à Pied et à Vélo - ECPv6.15.20//NONSGML v1.0//EN
CALSCALE:GREGORIAN
METHOD:PUBLISH
X-ORIGINAL-URL:https://www.bapav.org
X-WR-CALDESC:Évènements pour BaPaV - Brest à Pied et à Vélo
REFRESH-INTERVAL;VALUE=DURATION:PT1H
X-Robots-Tag:noindex
X-PUBLISHED-TTL:PT1H
BEGIN:VTIMEZONE
TZID:Europe/Paris
BEGIN:DAYLIGHT
TZOFFSETFROM:+0100
TZOFFSETTO:+0200
TZNAME:CEST
DTSTART:20230326T010000
END:DAYLIGHT
BEGIN:STANDARD
TZOFFSETFROM:+0200
TZOFFSETTO:+0100
TZNAME:CET
DTSTART:20231029T010000
END:STANDARD
BEGIN:DAYLIGHT
TZOFFSETFROM:+0100
TZOFFSETTO:+0200
TZNAME:CEST
DTSTART:20240331T010000
END:DAYLIGHT
BEGIN:STANDARD
TZOFFSETFROM:+0200
TZOFFSETTO:+0100
TZNAME:CET
DTSTART:20241027T010000
END:STANDARD
BEGIN:DAYLIGHT
TZOFFSETFROM:+0100
TZOFFSETTO:+0200
TZNAME:CEST
DTSTART:20250330T010000
END:DAYLIGHT
BEGIN:STANDARD
TZOFFSETFROM:+0200
TZOFFSETTO:+0100
TZNAME:CET
DTSTART:20251026T010000
END:STANDARD
END:VTIMEZONE
BEGIN:VEVENT
DTSTART;TZID=Europe/Paris:20240525T133000
DTEND;TZID=Europe/Paris:20240525T170000
DTSTAMP:20260422T171740
CREATED:20240420T045753Z
LAST-MODIFIED:20240523T031231Z
UID:43128-1716643800-1716656400@www.bapav.org
SUMMARY:Temps fort Tout à Vélo
DESCRIPTION:Comme temps fort du challenge\, BaPaV et ses partenaires (Brest Métropole\, Bibus\, Ti Mobzh) vous proposent cette année une grande animation autour du vélo le samedi 25 Mai de 13 heures 30 à 17 heures place Wilson à Brest. \nTout au long de l’après-midi de nombreuses activités sont programmées : \n\nTours en triporteur\nParcours de vélo-école\nAtelier de réparation\nCartographie\nVente de vélos\nEssais de vélos électriques\n\nEt l’association Les enfants d’Arthur sera aussi présente pour faire des crêpes.
URL:https://www.bapav.org/event/temps-fort-tout-a-velo/
LOCATION:Place Wilson\, place Wilson\, Brest\, 29200
CATEGORIES:Animation
ATTACH;FMTTYPE=image/png:https://www.bapav.org/wp-content/uploads/2024/04/Place-au-velo-1.png
END:VEVENT
END:VCALENDAR