BEGIN:VCALENDAR
VERSION:2.0
PRODID:-//BaPaV - Brest à Pied et à Vélo - ECPv6.15.20//NONSGML v1.0//EN
CALSCALE:GREGORIAN
METHOD:PUBLISH
X-ORIGINAL-URL:https://www.bapav.org
X-WR-CALDESC:Évènements pour BaPaV - Brest à Pied et à Vélo
REFRESH-INTERVAL;VALUE=DURATION:PT1H
X-Robots-Tag:noindex
X-PUBLISHED-TTL:PT1H
BEGIN:VTIMEZONE
TZID:Europe/Paris
BEGIN:DAYLIGHT
TZOFFSETFROM:+0100
TZOFFSETTO:+0200
TZNAME:CEST
DTSTART:20230326T010000
END:DAYLIGHT
BEGIN:STANDARD
TZOFFSETFROM:+0200
TZOFFSETTO:+0100
TZNAME:CET
DTSTART:20231029T010000
END:STANDARD
BEGIN:DAYLIGHT
TZOFFSETFROM:+0100
TZOFFSETTO:+0200
TZNAME:CEST
DTSTART:20240331T010000
END:DAYLIGHT
BEGIN:STANDARD
TZOFFSETFROM:+0200
TZOFFSETTO:+0100
TZNAME:CET
DTSTART:20241027T010000
END:STANDARD
BEGIN:DAYLIGHT
TZOFFSETFROM:+0100
TZOFFSETTO:+0200
TZNAME:CEST
DTSTART:20250330T010000
END:DAYLIGHT
BEGIN:STANDARD
TZOFFSETFROM:+0200
TZOFFSETTO:+0100
TZNAME:CET
DTSTART:20251026T010000
END:STANDARD
END:VTIMEZONE
BEGIN:VEVENT
DTSTART;TZID=Europe/Paris:20240604T084500
DTEND;TZID=Europe/Paris:20240604T121500
DTSTAMP:20260422T045013
CREATED:20240523T122758Z
LAST-MODIFIED:20240523T122758Z
UID:44667-1717490700-1717503300@www.bapav.org
SUMMARY:ADESS - Mob’In BRETAGNE Matinée Mobilité et Entreprises
DESCRIPTION:Programme : \n\n8h45 : Accueil et café\n\n\n9h15 : Ouverture de la matinée\n\n\n9h45 : Table ronde retours d’expérience entreprises\n\n\n10h45-12h15 : Ateliers thématiques (2 choix possibles\, les inscriptions aux ateliers se feront dans un second temps)\n\nMobilité et Recrutement animé par Ehop et Don Bosco.\nPDME\, mise en place d’un plan de mobilité en entreprise animée par Benoit Klein de Brest Métropole.\nSensibilisation mobilité en entreprise\, animé par Ehop et le Lieu Dit.\nMobilité active en entreprise animé par la Bapav.\n\n\n\n  \nHoraires : accueil dès 8h45 – 12h15\n \nLes Insolites \nRez de chaussé des Ateliers des Capucins \n25 Rue de Pontaniou \n29200 Brest \n(accessible tram\, téléphérique\, bus) \n  \nÉvénement ouvert aux employeurs du territoire (dirigeant-e-s\, responsable RH\, RSE\, …) \nÉvénement gratuit \nPlaces limitées (80) : maximum deux participants par entreprise \n  \nMatinée organisée par l’ADESS et Mob’In Bretagne \nProjet Accompagnement des mutations économiques (Mob’In Bretagne) – Projet Traits d’Union (Adess) : deux projets financés par la DREETS Bretagne \n  \n        \n             \nADESS Pays de Brest\nPépinière Poul Ar Bachet\, Bat E.\n1 rue Louis Pidoux\n29200 Brest\n09 72 60 58 88\npaysdebrest@adess29.fr
URL:https://www.bapav.org/event/adess-mobin-bretagne-matinee-mobilite-et-entreprises/
LOCATION:Atelier des Capucins\, Atelier des Capucins\, Brest\, 29200
CATEGORIES:Animation
ATTACH;FMTTYPE=image/png:https://www.bapav.org/wp-content/uploads/2024/05/Logo-Adess.png
ORGANIZER;CN="Adess Pays de Brest":MAILTO:paysdebrest@adess29.fr
END:VEVENT
END:VCALENDAR