BEGIN:VCALENDAR
VERSION:2.0
PRODID:-//BaPaV - Brest à Pied et à Vélo - ECPv6.15.20//NONSGML v1.0//EN
CALSCALE:GREGORIAN
METHOD:PUBLISH
X-WR-CALNAME:BaPaV - Brest à Pied et à Vélo
X-ORIGINAL-URL:https://www.bapav.org
X-WR-CALDESC:Évènements pour BaPaV - Brest à Pied et à Vélo
REFRESH-INTERVAL;VALUE=DURATION:PT1H
X-Robots-Tag:noindex
X-PUBLISHED-TTL:PT1H
BEGIN:VTIMEZONE
TZID:Europe/Paris
BEGIN:DAYLIGHT
TZOFFSETFROM:+0100
TZOFFSETTO:+0200
TZNAME:CEST
DTSTART:20240331T010000
END:DAYLIGHT
BEGIN:STANDARD
TZOFFSETFROM:+0200
TZOFFSETTO:+0100
TZNAME:CET
DTSTART:20241027T010000
END:STANDARD
BEGIN:DAYLIGHT
TZOFFSETFROM:+0100
TZOFFSETTO:+0200
TZNAME:CEST
DTSTART:20250330T010000
END:DAYLIGHT
BEGIN:STANDARD
TZOFFSETFROM:+0200
TZOFFSETTO:+0100
TZNAME:CET
DTSTART:20251026T010000
END:STANDARD
BEGIN:DAYLIGHT
TZOFFSETFROM:+0100
TZOFFSETTO:+0200
TZNAME:CEST
DTSTART:20260329T010000
END:DAYLIGHT
BEGIN:STANDARD
TZOFFSETFROM:+0200
TZOFFSETTO:+0100
TZNAME:CET
DTSTART:20261025T010000
END:STANDARD
END:VTIMEZONE
BEGIN:VEVENT
DTSTART;TZID=Europe/Paris:20250314T183000
DTEND;TZID=Europe/Paris:20250314T203000
DTSTAMP:20260421T142458
CREATED:20250306T150520Z
LAST-MODIFIED:20250306T151044Z
UID:51792-1741977000-1741984200@www.bapav.org
SUMMARY:Le Libre au service des ateliers vélo
DESCRIPTION:
URL:https://www.bapav.org/event/le-libre-au-service-des-ateliers-velo/
LOCATION:Mairie des Quatre-Moulins\, 200\, Rue Anatole France\, Brest\, 29200
CATEGORIES:Animation
ATTACH;FMTTYPE=image/png:https://www.bapav.org/wp-content/uploads/2025/03/lhc_affiche_brest-numerique-2025-f.600.png
END:VEVENT
END:VCALENDAR