BEGIN:VCALENDAR
VERSION:2.0
PRODID:-//BaPaV - Brest à Pied et à Vélo - ECPv6.15.20//NONSGML v1.0//EN
CALSCALE:GREGORIAN
METHOD:PUBLISH
X-WR-CALNAME:BaPaV - Brest à Pied et à Vélo
X-ORIGINAL-URL:https://www.bapav.org
X-WR-CALDESC:Évènements pour BaPaV - Brest à Pied et à Vélo
REFRESH-INTERVAL;VALUE=DURATION:PT1H
X-Robots-Tag:noindex
X-PUBLISHED-TTL:PT1H
BEGIN:VTIMEZONE
TZID:Europe/Paris
BEGIN:DAYLIGHT
TZOFFSETFROM:+0100
TZOFFSETTO:+0200
TZNAME:CEST
DTSTART:20240331T010000
END:DAYLIGHT
BEGIN:STANDARD
TZOFFSETFROM:+0200
TZOFFSETTO:+0100
TZNAME:CET
DTSTART:20241027T010000
END:STANDARD
BEGIN:DAYLIGHT
TZOFFSETFROM:+0100
TZOFFSETTO:+0200
TZNAME:CEST
DTSTART:20250330T010000
END:DAYLIGHT
BEGIN:STANDARD
TZOFFSETFROM:+0200
TZOFFSETTO:+0100
TZNAME:CET
DTSTART:20251026T010000
END:STANDARD
BEGIN:DAYLIGHT
TZOFFSETFROM:+0100
TZOFFSETTO:+0200
TZNAME:CEST
DTSTART:20260329T010000
END:DAYLIGHT
BEGIN:STANDARD
TZOFFSETFROM:+0200
TZOFFSETTO:+0100
TZNAME:CET
DTSTART:20261025T010000
END:STANDARD
END:VTIMEZONE
BEGIN:VEVENT
DTSTART;TZID=Europe/Paris:20250315T093000
DTEND;TZID=Europe/Paris:20250315T120000
DTSTAMP:20260421T124524
CREATED:20250108T083329Z
LAST-MODIFIED:20250317T153316Z
UID:50552-1742031000-1742040000@www.bapav.org
SUMMARY:Assemblée Générale BAPAV
DESCRIPTION:Assemblée générale à la Maison des associations\n 6 rue de Pen Ar Créach   29200   Brest \nRapport d’activité \nDiaporama Assemblée générale \n\n			\n		\n					\n	\n		\n				\n			Brest à pied et à vélo appelle à l’implication de ses adhérents		\n						\n			Bapav poursuit sa mission de promotion du vélo en ville. L’association forte de près de 650 adhérents\, était réunie en assemblée générale\, samedi.
URL:https://www.bapav.org/event/assemblee-generale-bapav/
LOCATION:Maison des Associations\, 6 rue de Pen Ar Créach\, Brest\, 29200\, France
CATEGORIES:Animation,CA,Manifestation
ATTACH;FMTTYPE=image/png:https://www.bapav.org/wp-content/uploads/2020/04/cropped-Logo-BaPaV-Bleu-Noir.png
END:VEVENT
END:VCALENDAR