BEGIN:VCALENDAR
VERSION:2.0
PRODID:-//BaPaV - Brest à Pied et à Vélo - ECPv6.15.20//NONSGML v1.0//EN
CALSCALE:GREGORIAN
METHOD:PUBLISH
X-WR-CALNAME:BaPaV - Brest à Pied et à Vélo
X-ORIGINAL-URL:https://www.bapav.org
X-WR-CALDESC:Évènements pour BaPaV - Brest à Pied et à Vélo
REFRESH-INTERVAL;VALUE=DURATION:PT1H
X-Robots-Tag:noindex
X-PUBLISHED-TTL:PT1H
BEGIN:VTIMEZONE
TZID:Europe/Paris
BEGIN:DAYLIGHT
TZOFFSETFROM:+0100
TZOFFSETTO:+0200
TZNAME:CEST
DTSTART:20240331T010000
END:DAYLIGHT
BEGIN:STANDARD
TZOFFSETFROM:+0200
TZOFFSETTO:+0100
TZNAME:CET
DTSTART:20241027T010000
END:STANDARD
BEGIN:DAYLIGHT
TZOFFSETFROM:+0100
TZOFFSETTO:+0200
TZNAME:CEST
DTSTART:20250330T010000
END:DAYLIGHT
BEGIN:STANDARD
TZOFFSETFROM:+0200
TZOFFSETTO:+0100
TZNAME:CET
DTSTART:20251026T010000
END:STANDARD
BEGIN:DAYLIGHT
TZOFFSETFROM:+0100
TZOFFSETTO:+0200
TZNAME:CEST
DTSTART:20260329T010000
END:DAYLIGHT
BEGIN:STANDARD
TZOFFSETFROM:+0200
TZOFFSETTO:+0100
TZNAME:CET
DTSTART:20261025T010000
END:STANDARD
END:VTIMEZONE
BEGIN:VEVENT
DTSTART;TZID=Europe/Paris:20250709T110000
DTEND;TZID=Europe/Paris:20250709T170000
DTSTAMP:20260421T034135
CREATED:20250704T035316Z
LAST-MODIFIED:20250704T035316Z
UID:55622-1752058800-1752080400@www.bapav.org
SUMMARY:Faites du vélo
DESCRIPTION:FAITES DU VELO \nMercredi 9 Juillet\nDe 11h à 17h\nPlace Degas à Pontanezen\n\nOrganisé par Brestfr\nMecacyclette avec nous\, Caravane du sport avec UFOLEP Finistère\, essai de Vélos à assistance électrique avec Bibus Brest\, essais de draisiennes et trotinettes et plein d’autres animations avec Don Bosco – Direction Mobilité\, Centre Social Brest Horizons\, Eau du Ponant SPL\, Les Petits Débrouillards Brest\, Planète Loisirs Pays de Brest
URL:https://www.bapav.org/event/faites-du-velo/
CATEGORIES:Animation,Manifestation
ATTACH;FMTTYPE=image/jpeg:https://www.bapav.org/wp-content/uploads/2025/07/Faitesduvelo.jpg
END:VEVENT
END:VCALENDAR