BEGIN:VCALENDAR
VERSION:2.0
PRODID:-//BaPaV - Brest à Pied et à Vélo - ECPv6.15.20//NONSGML v1.0//EN
CALSCALE:GREGORIAN
METHOD:PUBLISH
X-ORIGINAL-URL:https://www.bapav.org
X-WR-CALDESC:Évènements pour BaPaV - Brest à Pied et à Vélo
REFRESH-INTERVAL;VALUE=DURATION:PT1H
X-Robots-Tag:noindex
X-PUBLISHED-TTL:PT1H
BEGIN:VTIMEZONE
TZID:Europe/Paris
BEGIN:DAYLIGHT
TZOFFSETFROM:+0100
TZOFFSETTO:+0200
TZNAME:CEST
DTSTART:20240331T010000
END:DAYLIGHT
BEGIN:STANDARD
TZOFFSETFROM:+0200
TZOFFSETTO:+0100
TZNAME:CET
DTSTART:20241027T010000
END:STANDARD
BEGIN:DAYLIGHT
TZOFFSETFROM:+0100
TZOFFSETTO:+0200
TZNAME:CEST
DTSTART:20250330T010000
END:DAYLIGHT
BEGIN:STANDARD
TZOFFSETFROM:+0200
TZOFFSETTO:+0100
TZNAME:CET
DTSTART:20251026T010000
END:STANDARD
BEGIN:DAYLIGHT
TZOFFSETFROM:+0100
TZOFFSETTO:+0200
TZNAME:CEST
DTSTART:20260329T010000
END:DAYLIGHT
BEGIN:STANDARD
TZOFFSETFROM:+0200
TZOFFSETTO:+0100
TZNAME:CET
DTSTART:20261025T010000
END:STANDARD
END:VTIMEZONE
BEGIN:VEVENT
DTSTART;VALUE=DATE:20250916
DTEND;VALUE=DATE:20250923
DTSTAMP:20260421T021201
CREATED:20250902T035605Z
LAST-MODIFIED:20250902T040254Z
UID:56945-1757980800-1758585599@www.bapav.org
SUMMARY:Semaine européenne de la mobilité
DESCRIPTION:Semaine de la mobilité\nDu 16 au 22 septembre c’est la semaine européenne de la mobilité qui a pour but d’inciter tout le monde à utiliser des modes de transports plus durables. A cete occasion\, BaPaV se mobilise dans les entreprises pour promouvoir les mobilités actives\, avec des ateliers de mécanique et de vélo-école. \n  \nNous serons présents à Crozon le 20 septembre pour la journée de la mobilité organisée dans le cadre du programme TIMS\, partenaire de nos actions (plus d’infos à venir). \n  \nNous serons aussi à la Foire Saint Michel les 28 et 29 septembre\, près de la Place Wilson. On amène nos triporteurs\, notre atelier mobile et des vélos à vendre… Venez nous voir!
URL:https://www.bapav.org/event/semaine-europeenne-de-la-mobilite/
CATEGORIES:Animation
ATTACH;FMTTYPE=image/png:https://www.bapav.org/wp-content/uploads/2025/09/Semaine-mobilite.png
END:VEVENT
END:VCALENDAR