BEGIN:VCALENDAR
VERSION:2.0
PRODID:-//BaPaV - Brest à Pied et à Vélo - ECPv6.15.20//NONSGML v1.0//EN
CALSCALE:GREGORIAN
METHOD:PUBLISH
X-ORIGINAL-URL:https://www.bapav.org
X-WR-CALDESC:Évènements pour BaPaV - Brest à Pied et à Vélo
REFRESH-INTERVAL;VALUE=DURATION:PT1H
X-Robots-Tag:noindex
X-PUBLISHED-TTL:PT1H
BEGIN:VTIMEZONE
TZID:Europe/Paris
BEGIN:DAYLIGHT
TZOFFSETFROM:+0100
TZOFFSETTO:+0200
TZNAME:CEST
DTSTART:20240331T010000
END:DAYLIGHT
BEGIN:STANDARD
TZOFFSETFROM:+0200
TZOFFSETTO:+0100
TZNAME:CET
DTSTART:20241027T010000
END:STANDARD
BEGIN:DAYLIGHT
TZOFFSETFROM:+0100
TZOFFSETTO:+0200
TZNAME:CEST
DTSTART:20250330T010000
END:DAYLIGHT
BEGIN:STANDARD
TZOFFSETFROM:+0200
TZOFFSETTO:+0100
TZNAME:CET
DTSTART:20251026T010000
END:STANDARD
BEGIN:DAYLIGHT
TZOFFSETFROM:+0100
TZOFFSETTO:+0200
TZNAME:CEST
DTSTART:20260329T010000
END:DAYLIGHT
BEGIN:STANDARD
TZOFFSETFROM:+0200
TZOFFSETTO:+0100
TZNAME:CET
DTSTART:20261025T010000
END:STANDARD
END:VTIMEZONE
BEGIN:VEVENT
DTSTART;TZID=Europe/Paris:20251120T183000
DTEND;TZID=Europe/Paris:20251120T200000
DTSTAMP:20260420T211529
CREATED:20251102T031802Z
LAST-MODIFIED:20251118T150343Z
UID:57794-1763663400-1763668800@www.bapav.org
SUMMARY:Jeudi de Bapav
DESCRIPTION:Tous les 2 mois BaPaV organise les jeudis de BaPaV pour échanger autour d’une thématique qui concerne les piéton·nes ou les cyclistes. En novembre on a décidé de se focaliser sur la question de la nuit avec notamment l’opération cyclistes brillez le 27 novembre et on souhaitait également aborder cette thématique pour les piéton·nes. Or la question de l’utilisation de l’espace public et donc de la pratique de la marche est très sensible à la question du genre\, encore plus la nuit. Avec également la journée internationale de lutte contre les violences faites aux femmes le 25 novembre le thème nous a semblé évident.\nLimitation des déplacements\, choix d’itinéraires avec des rues plus fréquentées et éclairées\, déplacements en groupes\, les femmes développent des stratégies pour faire face au sentiment d’insécurité nocturne. Edna Hernández González\, Maîtresse de conférence à l’UBO et coordinatrice de la chair Noz Breizh sera là pour nous parler de ces thématiques et échanger avec la salle autour de témoignages ou d’exemple de politiques publiques à mettre en place pour rendre la pratique de la marche en ville la nuit plus égalitaire.
URL:https://www.bapav.org/event/jeudi-de-bapav/
LOCATION:Le Grabuge\, 26\, rue de la porte\, Brest\, 29200\, France
CATEGORIES:Animation
ATTACH;FMTTYPE=image/jpeg:https://www.bapav.org/wp-content/uploads/2025/11/jeudi-de-bapav-2025-11-20.jpeg
END:VEVENT
END:VCALENDAR